BEGIN:VCALENDAR
VERSION:2.0
PRODID:-//St. Joseph County United Way - ECPv6.15.15//NONSGML v1.0//EN
CALSCALE:GREGORIAN
METHOD:PUBLISH
X-WR-CALNAME:St. Joseph County United Way
X-ORIGINAL-URL:https://sjcuf.com
X-WR-CALDESC:Events for St. Joseph County United Way
REFRESH-INTERVAL;VALUE=DURATION:PT1H
X-Robots-Tag:noindex
X-PUBLISHED-TTL:PT1H
BEGIN:VTIMEZONE
TZID:America/Detroit
BEGIN:DAYLIGHT
TZOFFSETFROM:-0500
TZOFFSETTO:-0400
TZNAME:EDT
DTSTART:20230312T070000
END:DAYLIGHT
BEGIN:STANDARD
TZOFFSETFROM:-0400
TZOFFSETTO:-0500
TZNAME:EST
DTSTART:20231105T060000
END:STANDARD
BEGIN:DAYLIGHT
TZOFFSETFROM:-0500
TZOFFSETTO:-0400
TZNAME:EDT
DTSTART:20240310T070000
END:DAYLIGHT
BEGIN:STANDARD
TZOFFSETFROM:-0400
TZOFFSETTO:-0500
TZNAME:EST
DTSTART:20241103T060000
END:STANDARD
BEGIN:DAYLIGHT
TZOFFSETFROM:-0500
TZOFFSETTO:-0400
TZNAME:EDT
DTSTART:20250309T070000
END:DAYLIGHT
BEGIN:STANDARD
TZOFFSETFROM:-0400
TZOFFSETTO:-0500
TZNAME:EST
DTSTART:20251102T060000
END:STANDARD
END:VTIMEZONE
BEGIN:VEVENT
DTSTART;TZID=America/Detroit:20241010T190000
DTEND;TZID=America/Detroit:20241010T210000
DTSTAMP:20260421T121152
CREATED:20240618T183419Z
LAST-MODIFIED:20240625T171739Z
UID:2842-1728586800-1728594000@sjcuf.com
SUMMARY:Campaign 2025 13th Annual MEGA RAFFLE
DESCRIPTION:Your St. Joseph County United Way Campaign 2025 Mega Raffle is here!! With less than 330 tickets available\, hurry and get yours today. Tickets will be $100 each and below are the listed winning tickets. The event will be Thursday\, October 10th at the Covered Bridge Farm County Barn. The first ticket will be drawn at 7 PM. Call St. Joseph County United Way at 269-467-9099 to purchase your ticket.
URL:https://sjcuf.com/event/campaign-2025-13th-annual-mega-raffle/
LOCATION:Covered Bridge County Farm Barn\, 56705 Covered Bridge Road\, Three Rivers\, MI\, 49093\, United States
END:VEVENT
BEGIN:VEVENT
DTSTART;VALUE=DATE:20240915
DTEND;VALUE=DATE:20240922
DTSTAMP:20260421T121152
CREATED:20240606T163053Z
LAST-MODIFIED:20240606T163053Z
UID:2835-1726358400-1726963199@sjcuf.com
SUMMARY:Silent Auction
DESCRIPTION:
URL:https://sjcuf.com/event/silent-auction/
LOCATION:St. Joseph County Grange Fair\, 316 E Charlotte St.\, Centreville\, MI\, 49032\, United States
END:VEVENT
BEGIN:VEVENT
DTSTART;TZID=America/Detroit:20240907T090000
DTEND;TZID=America/Detroit:20240907T140000
DTSTAMP:20260421T121152
CREATED:20240702T173745Z
LAST-MODIFIED:20240805T143739Z
UID:2875-1725699600-1725717600@sjcuf.com
SUMMARY:Third Annual W.A.S.P 5K
DESCRIPTION:
URL:https://sjcuf.com/event/third-annual-w-a-s-p-5k/
END:VEVENT
END:VCALENDAR